Workbook

Sheet 봉사부6월
F1: ( 봉 사 부 ) 현금출납 기록부 | J1: 기록자: 김 병 태
A3: 날 짜 | C3: 내 역 | F3: 수입 금액 | G3: 지출 금액 | H3: 잔액 | I3: 구분(현금/카드) | J3: 비고
A4: 월 | B4: 일 | C4: 품목 | D4: 수량 | E4: 단가
A5: 6 | B5: 5 | C5: 김밥 | D5: 300 | E5: 1500 | G5: =D5*E5 -> 450000 | I5: 체크카드
C6: 종이컵 | D6: 1 | E6: 9900 | G6: =D6*E6 -> 9900 | I6: 체크카드
C7: 커피 | D7: 1 | E7: 21500 | G7: =D7*E7 -> 21500 | I7: 체크카드
C8: 김밥 판매금 | F8: 270500 | G8: =D8*E8 -> 0
A9: 6 | B9: 11 | C9: 파라솔세트 | D9: 3 | E9: 91666.8 | G9: =D9*E9 -> 275000.4 | I9: 체크카드
C10: 파라솔운반비 | D10: 1 | E10: 30000 | G10: =D10*E10 -> 30000 | I10: 체크카드
A11: 6 | B11: 12 | C11: 김밥 | D11: 350 | E11: 1500 | G11: =D11*E11 -> 525000 | I11: 체크카드
C12: 김밥 판매금 | F12: 235000 | G12: =D12*E12 -> 0
A13: 6 | B13: 19 | C13: 김밥 | D13: 300 | E13: 1500 | G13: =D13*E13 -> 450000 | I13: 체크카드
C14: 미화원 용역비 | D14: 2 | E14: 400000 | G14: =D14*E14 -> 800000 | I14: 체크카드
C15: 김밥 판매금 | F15: 194000 | G15: =D15*E15 -> 0
A16: 6 | B16: 26 | C16: 주차표시판 | D16: 1 | E16: 24600 | G16: =D16*E16 -> 24600 | I16: 체크카드
C17: 커피 녹차 | D17: 1 | E17: 53950 | G17: =D17*E17 -> 53950 | I17: 체크카드
C18: 주차봉 | D18: 1 | E18: 49840 | G18: =D18*E18 -> 49840 | I18: 체크카드
C19: 김밥 | D19: 380 | E19: 1500 | G19: =D19*E19 -> 570000 | I19: 체크카드
C20: 커피 | D20: 1 | E20: 91500 | G20: =D20*E20 -> 91500 | I20: 체크카드
C21: 둥글래차 | D21: 1 | E21: 12200 | G21: =D21*E21 -> 12200 | I21: 체크카드
C22: 메밀차 | D22: 1 | E22: 12100 | G22: =D22*E22 -> 12100 | I22: 체크카드
C23: 녹차 | D23: 1 | E23: 11670 | G23: =D23*E23 -> 11670 | I23: 체크카드
C24: 종이컵 | D24: 1 | E24: 19800 | G24: =D24*E24 -> 19800 | I24: 체크카드
C25: 안전신호봉 | D25: 3 | E25: 10000 | G25: =D25*E25 -> 30000 | I25: 체크카드
C26: 김밥 판매금 | F26: 261000 | G26: =D26*E26 -> 0
G27: =D27*E27 -> 0
G28: =D28*E28 -> 0
C29: 합계 | F29: =SUM(F5:F28) -> 960500 | G29: =SUM(G5:G28) -> 3437060.4
C30: 전월 계 | F30: =봉사부3월!F31 -> 3381100 | G30: =봉사부3월!G31 -> 10200460
C31: 누계 | F31: =F29+F30 -> 4341600 | G31: =G29+G30 -> 13637520

Sheet 봉사부5월
F1: ( 봉 사 부 ) 현금출납 기록부 | J1: 기록자: 김 병 태
A3: 날 짜 | C3: 내 역 | F3: 수입 금액 | G3: 지출 금액 | H3: 잔액 | I3: 구분(현금/카드) | J3: 비고
A4: 월 | B4: 일 | C4: 품목 | D4: 수량 | E4: 단가
A5: 5 | B5: 1 | C5: 종이컵,현미녹차 | D5: 1 | E5: 27780 | G5: =D5*E5 -> 27780 | I5: 체크카드
C6: 김밥 | D6: 400 | E6: 1500 | G6: =D6*E6 -> 600000 | I6: 체크카드
C7: 김밥 판매금 | F7: 301000 | G7: =D7*E7 -> 0
A8: 5 | B8: 7 | C8: 동서 메밀차 | D8: 2 | E8: 9680 | G8: =D8*E8 -> 19360 | I8: 체크카드
C9: 현미 녹차 | D9: 2 | E9: 9330 | G9: =D9*E9 -> 18660 | I9: 체크카드
C10: 커피 | D10: 4 | E10: 22400 | G10: =D10*E10 -> 89600 | I10: 체크카드
A11: 5 | B11: 8 | C11: 김밥 | D11: 350 | E11: 1500 | G11: =D11*E11 -> 525000 | I11: 체크카드
C12: 김밥 판매금 | F12: 356000 | G12: =D12*E12 -> 0
C13: 미화원 용역 | D13: 2 | E13: 400000 | G13: =D13*E13 -> 800000 | I13: 체크카드
A14: 5 | B14: 15 | C14: 김밥 | D14: 350 | E14: 1500 | G14: =D14*E14 -> 525000 | I14: 체크카드
C15: 김밥 판매금 | F15: 241000 | G15: =D15*E15 -> 0
A16: 5 | B16: 22 | C16: 김밥 | D16: 300 | E16: 1500 | G16: =D16*E16 -> 450000 | I16: 체크카드
C17: 김밥 판매금 | F17: 281000 | G17: =D17*E17 -> 0
A18: 5 | B18: 25 | C18: 주차 표지판 | D18: 3 | E18: 16613.3 | G18: =D18*E18 -> 49839.9 | J18: 자 부담 선 결제
A19: 5 | B19: 29 | C19: 여성도회 바자회 | G19: =D19*E19 -> 0
G20: =D20*E20 -> 0
G21: =D21*E21 -> 0
G22: =D22*E22 -> 0
G23: =D23*E23 -> 0
G24: =D24*E24 -> 0
G25: =D25*E25 -> 0
G26: =D26*E26 -> 0
G27: =D27*E27 -> 0
G28: =D28*E28 -> 0
C29: 합계 | F29: =SUM(F5:F28) -> 1179000 | G29: =SUM(G5:G28) -> 3105239.9
C30: 전월 계 | F30: =봉사부3월!F31 -> 3381100 | G30: =봉사부3월!G31 -> 10200460
C31: 누계 | F31: =F29+F30 -> 4560100 | G31: =G29+G30 -> 13305700

Sheet 봉사부4월
F1: ( 봉 사 부 ) 현금출납 기록부 | J1: 기록자: 김 병 태
A3: 날 짜 | C3: 내 역 | F3: 수입 금액 | G3: 지출 금액 | H3: 잔액 | I3: 구분(현금/카드) | J3: 비고
A4: 월 | B4: 일 | C4: 품목 | D4: 수량 | E4: 단가
A5: 4 | B5: 3 | C5: 김밥 | D5: 430 | E5: 1500 | G5: =D5*E5 -> 645000 | I5: 체크카드
C6: 김밥 판매금 | F6: 371500 | G6: =D6*E6 -> 0
A7: 4 | B7: 9 | C7: 쓰레기 봉투 | D7: 1 | E7: 12500 | G7: =D7*E7 -> 12500 | I7: 체크카드
C8: 쓰레기 봉투(특대) | D8: 1 | E8: 10500 | G8: =D8*E8 -> 10500 | I8: 체크카드
C9: 커피 | D9: 4 | E9: 20170 | G9: =D9*E9 -> 80680 | I9: 체크카드
A10: 4 | B10: 10 | C10: 김밥 | D10: 380 | E10: 1500 | G10: =D10*E10 -> 570000 | I10: 체크카드
C11: 김밥 판매금 | F11: 255500 | G11: =D11*E11 -> 0 | I11: 체크카드
A12: 4 | B12: 17 | C12: 김밥 | D12: 400 | E12: 1500 | G12: =D12*E12 -> 600000 | I12: 체크카드
C13: 김밥 판매금 | F13: 273000 | G13: =D13*E13 -> 0
C14: 청소용역비 | D14: 2 | E14: 400000 | G14: =D14*E14 -> 800000 | I14: 체크카드
A15: 4 | B15: 24 | C15: 김밥 | D15: 350 | E15: 1500 | G15: =D15*E15 -> 525000 | I15: 체크카드
C16: 김밥 판매금 | F16: 353000 | G16: =D16*E16 -> 0
G17: =D17*E17 -> 0
G18: =D18*E18 -> 0
G19: =D19*E19 -> 0
G20: =D20*E20 -> 0
G21: =D21*E21 -> 0
G22: =D22*E22 -> 0
G23: =D23*E23 -> 0
G24: =D24*E24 -> 0
G25: =D25*E25 -> 0
G26: =D26*E26 -> 0
G27: =D27*E27 -> 0
G28: =D28*E28 -> 0
C29: 합계 | F29: =SUM(F5:F28) -> 1253000 | G29: =SUM(G5:G28) -> 3243680
C30: 전월 계 | F30: =봉사부3월!F31 -> 3381100 | G30: =봉사부3월!G31 -> 10200460
C31: 누계 | F31: =F29+F30 -> 4634100 | G31: =G29+G30 -> 13444140

Sheet 봉사부3월
F1: ( 봉 사 부 ) 현금출납 기록부 | J1: 기록자: 김 병 태
A3: 날 짜 | C3: 내 역 | F3: 수입 금액 | G3: 지출 금액 | H3: 잔액 | I3: 구분(현금/카드) | J3: 비고
A4: 월 | B4: 일 | C4: 품목 | D4: 수량 | E4: 단가
A5: 3 | B5: 6 | C5: 김밥 | D5: 420 | E5: 1500 | G5: =D5*E5 -> 630000 | I5: 체크카드
C6: 김밥 판매금 | F6: 370000 | G6: =D6*E6 -> 0
A7: 3 | B7: 12 | C7: 둥륵레차 | D7: 2 | E7: 7680 | G7: =D7*E7 -> 15360 | I7: 체크카드
C8: 메밀차 | D8: 1 | E8: 9680 | G8: =D8*E8 -> 9680 | I8: 체크카드
C9: 커피 | D9: 4 | E9: 21800 | G9: =D9*E9 -> 87200 | I9: 체크카드
C10: 비닐속지(중) | D10: 1 | E10: 5200 | G10: =D10*E10 -> 5200 | I10: 체크카드
C11: 비닐봉투 | D11: 3 | E11: 1950 | G11: =D11*E11 -> 5850 | I11: 체크카드
C12: 젓가락 | D12: 2 | E12: 9450 | G12: =D12*E12 -> 18900 | I12: 체크카드
A13: 3 | B13: 13 | C13: 김밥 | D13: 380 | E13: 1500 | G13: =D13*E13 -> 570000 | I13: 체크카드
C14: 김밥 판매금 | F14: 320000 | G14: =D14*E14 -> 0
A15: 3 | B15: 20 | C15: 종이컵 | D15: 2 | E15: 9900 | G15: =D15*E15 -> 19800 | I15: 체크카드
C16: 김밥 | D16: 370 | E16: 1500 | G16: =D16*E16 -> 555000 | I16: 체크카드
C17: 김밥 판매금 | F17: 320000 | G17: =D17*E17 -> 0
A18: 3 | B18: 27 | C18: 떡/백설기 | D18: 25 | E18: 60000 | G18: =D18*E18 -> 1500000 | I18: 체크카드 | J18: 부활절 행사 건
C19: 주스 | D19: 1000 | E19: 800 | G19: =D19*E19 -> 800000 | I19: 체크카드
C20: 비닐팩 | D20: 10 | E20: 2500 | G20: =D20*E20 -> 25000 | I20: 체크카드
G21: =D21*E21 -> 0
G22: =D22*E22 -> 0
G23: =D23*E23 -> 0
G24: =D24*E24 -> 0
G25: =D25*E25 -> 0
G26: =D26*E26 -> 0
G27: =D27*E27 -> 0
G28: =D28*E28 -> 0
C29: 합계 | F29: =SUM(F5:F28) -> 1010000 | G29: =SUM(G5:G28) -> 4241990
C30: 전월 계 | F30: 2371100 | G30: 5958470
C31: 누계 | F31: =F29+F30 -> 3381100 | G31: =G29+G30 -> 10200460

Sheet 2월
F1: ( 봉 사 부 ) 현금출납 기록부 | J1: 기록자: 김 병 태
A3: 월 | B3: 일 | C3: 내역 | F3: 수입 금액 | G3: 지출 금액 | H3: 잔액 | I3: 구분(현금/카드) | J3: 비고
C4: 품목 | D4: 수량 | E4: 단가
A5: 2 | B5: 7 | I5: 체크 카드 | J5: 설 연휴
A6: 2 | B6: 13 | C6: 커피 | D6: 4 | E6: 23800 | G6: =D6*E6 -> 95200 | I6: 체크 카드
C7: 둥글레차 | D7: 2 | E7: 6100 | G7: =D7*E7 -> 12200 | I7: 체크 카드
C8: 메밀차 | D8: 2 | E8: 12100 | G8: =D8*E8 -> 24200 | I8: 체크 카드
A9: 2 | B9: 14 | C9: 김밥 | D9: 400 | E9: 1500 | G9: =D9*E9 -> 600000 | I9: 체크 카드
C10: 김밥판매금 | F10: 355100 | G10: =D10*E10 -> 0
A11: 2 | B11: 21 | C11: 맥심커피 | D11: 1 | E11: 19000 | G11: =D11*E11 -> 19000 | I11: 개인 선 지급 | J11: 정산완료
C12: 설탕 | D12: 1 | E12: 2350 | G12: =D12*E12 -> 2350 | I12: 개인 선 지급
C13: 종이컵 | D13: 1 | E13: 10000 | G13: =D13*E13 -> 10000 | I13: 개인 선 지급
C14: 김밥 | D14: 370 | E14: 1500 | G14: =D14*E14 -> 555000 | I14: 체크 카드
C15: 김밥판매금 | F15: 310500 | G15: =D15*E15 -> 0
A16: 2 | B16: 28 | C16: 김밥 | D16: 400 | E16: 1500 | G16: =D16*E16 -> 600000 | I16: 체크 카드
C17: 김밥판매금 | F17: 432500 | G17: =D17*E17 -> 0
G18: =D18*E18 -> 0
G19: =D19*E19 -> 0
G20: =D20*E20 -> 0
G21: =D21*E21 -> 0
G22: =D22*E22 -> 0
G23: =D23*E23 -> 0
G24: =D24*E24 -> 0
G25: =D25*E25 -> 0
G26: =D26*E26 -> 0
G27: =D27*E27 -> 0
G28: =D28*E28 -> 0
C29: 합계 | F29: =SUM(F5:F28) -> 1098100 | G29: =SUM(G5:G28) -> 1917950
C30: 전월 계 | F30: 1273000 | G30: 4040520
C31: 누계 | F31: =F29+F30 -> 2371100 | G31: =G29+G30 -> 5958470

Sheet 봉사부 1월 지출
D1: ( 봉 사 부 ) 현금출납 기록부 | H1: 기록자: 김 병 태
A3: 월 | B3: 일 | C3: 내역 | D3: 수입 | E3: 지출 | F3: 잔액 | G3: 구분(현금/카드) | H3: 비고
A4: 1 | B4: 3 | C4: 김밥 350 X 1,500 | E4: 525000 | G4: 체크카드
C5: 김밥 판매금 | D5: 320000 | G5: 체크카드
A6: 1 | B6: 9 | C6: 커피(4개 X18,900) | E6: 75600 | G6: 체크카드
C7: 맥심 커피 2개 X 5,900 | E7: 11800 | G7: 체크카드
C8: 메밀차 (2개 X 9,680) | E8: 19360 | G8: 체크카드
C9: 둥글래차(2개 X 7,680) | E9: 15360 | G9: 체크카드
C10: 쇼핑봉투 (2개 X 1,950) | E10: 3900 | G10: 체크카드
C11: 종이컵(2개 X 8,950) | E11: 17900 | G11: 체크카드
C12: 육개장 사발면(2개 X 1,680) | E12: 33600 | G12: 체크카드
A13: 1 | B13: 10 | C13: 생수(200개 X 500) | E13: 100000 | G13: 체크카드
C14: 김밥 350 X 1,500 | E14: 525000 | G14: 체크카드
C15: 김밥 판매금 | D15: 274000 | G15: 체크카드
C16: 청소 용역비 (2인 X 400,000) | E16: 800000 | G16: 체크카드
A17: 1 | B17: 11 | C17: 발열조끼(9개 X 75,800) | E17: 682200 | G17: 현금 | H17: 자부담 선결제
A18: 1 | B18: 17 | C18: 김밥 400 X 1,500 | E18: 600000 | G18: 체크카드
C19: 김밥 판매금 | D19: 369000 | G19: 체크카드
C20: 발열조끼(1개 X 75,800) | E20: 75800 | G20: 현금 | H20: 자부담 선결제
A21: 1 | B21: 24 | C21: 김밥 370 X 1,500 | D21: 310000 | E21: 555000 | G21: 체크카드
C22: 김밥 판매금 | G22: 체크카드
A23: 1 | B23: 31 | C23: 휴무-산야초 떡국
C28: 합계 | D28: =SUM(D4:D27) -> 1273000 | E28: =SUM(E4:E27) -> 4040520 | H28: 받을금액:758,000
