Workbook

Sheet 17년11월
E2: 17년 11월 | F2: ( 봉 사 부 ) 현금출납 기록부 | J2: 기록자: 김 병 태
A4: 날 짜 | C4: 내 역 | F4: 수입 금액 | G4: 지출 금액 | H4: 잔액 | I4: 구분(현금/카드) | J4: 비고
A5: 월 | B5: 일 | C5: 품목 | D5: 수량 | E5: 단가
A6: 43043 | C6: 맥심 커피 | D6: 2 | E6: 22120 | G6: =D6*E6 -> 44240
C7: 커피 할인 | D7: -1 | E7: 2000 | G7: =D7*E7 -> -2000
C8: 맥심 커피 | D8: 2 | E8: 22120 | G8: =D8*E8 -> 44240
C9: 커피 할인 | D9: -1 | E9: 2000 | G9: =D9*E9 -> -2000
C10: 각 티슈 | D10: 1 | E10: 3000 | G10: =D10*E10 -> 3000
C11: 종이컵 | D11: 1 | E11: 10000 | G11: =D11*E11 -> 10000
C12: 육개장 사발면 | D12: 2 | E12: 16800 | G12: =D12*E12 -> 33600
C13: 둥글레차 | D13: 2 | E13: 4300 | G13: =D13*E13 -> 8600
C14: 할인 | D14: -1 | E14: 4300 | G14: =D14*E14 -> -4300
C15: 현미 녹차 | D15: 2 | E15: 3200 | G15: =D15*E15 -> 6400
C16: 할인 | D16: -1 | E16: 3200 | G16: =D16*E16 -> -3200
C17: 메밀차 | D17: 2 | E17: 3350 | G17: =D17*E17 -> 6700
C18: 할인 | D18: -1 | E18: 3350 | G18: =D18*E18 -> -3350
... C20: 할인 | D20: -1 | E20: 1000 | G20: =D20*E20 -> -1000
A21: 43044 | C21: 김밥 | D21: 270 | E21: 1500 | G21: =D21*E21 -> 405000
C22: 김밥 판매금 | F22: 240000 | G22: =D22*E22 -> 0
A23: 43051 | C23: 김밥 | D23: 250 | E23: 1500 | G23: =D23*E23 -> 375000
C24: 김밥 판매금 | F24: 177000 | G24: =D24*E24 -> 0
A25: 43058 | C25: 미화원 용역비 | D25: 2 | E25: 450000 | G25: =D25*E25 -> 900000
C26: 백설기 떡 | D26: 1000 | E26: 1200 | G26: =D26*E26 -> 1200000 | J26: 추수 감사절 행사
C27: 소보루 빵 | D27: 1000 | E27: 850 | G27: =D27*E27 -> 850000
C28: 아침에 주스 | D28: 1000 | E28: 700 | G28: =D28*E28 -> 700000
C29: 생수 | D29: 1000 | E29: 280 | G29: =D29*E29 -> 280000
C30: 견과류 | D30: 1000 | E30: 269 | G30: =D30*E30 -> 269000
C31: 과일 | D31: 33 | E31: 18000 | G31: =D31*E31 -> 594000
C32: 포장 봉투 | D32: 1000 | E32: 60 | G32: =D32*E32 -> 60000
A33: 43064 | C33: 육개장 사발면 | D33: 3 | E33: 16800 | G33: =D33*E33 -> 50400
A34: 43065 | C34: 김밥 | D34: 250 | E34: 1500 | G34: =D34*E34 -> 375000
C35: 김밥 판매금 | F35: 180000 | G35: =D35*E35 -> 0
C36: 봉사부 단합행사 | D36: 1 | E36: 342000 | G36: =D36*E36 -> 342000
G37: =D37*E37 -> 0
G38: =D38*E38 -> 0
G39: =D39*E39 -> 0
G40: =D40*E40 -> 0
G41: =D41*E41 -> 0
G42: =D42*E42 -> 0
G43: =D43*E43 -> 0
G44: =D44*E44 -> 0
C45: 합계 | F45: =SUM(F6:F44) -> 597000 | G45: =SUM(G6:G44) -> 6585570
C46: 전월 계 | F46: ='17년10월'!F41 -> 8814350 | G46: ='17년10월'!G41 -> 36990860
C47: 누계 | F47: =F45+F46 -> 9411350 | G47: =G45+G46 -> 43576430

Sheet 17년10월
E2: 17년 10월 | F2: ( 봉 사 부 ) 현금출납 기록부 | J2: 기록자: 김 병 태
A4: 날 짜 | C4: 내 역 | F4: 수입 금액 | G4: 지출 금액 | H4: 잔액 | I4: 구분(현금/카드) | J4: 비고
A5: 월 | B5: 일 | C5: 품목 | D5: 수량 | E5: 단가
A6: 43009 | C6: 김밥 | D6: 120 | E6: 1500 | G6: =D6*E6 -> 180000
C7: 김밥 판매금 | F7: 10500 | G7: =D7*E7 -> 0
A8: 10월8일 | C8: 휴무 | G8: =D8*E8 -> 0
A9: 10월15일 | C9: 킹덤 중식지원비 | D9: 3 | E9: 200000 | G9: =D9*E9 -> 600000
A10: 43025 | C10: 중식 지원비 권 장로 | D10: 1 | E10: 200000 | G10: =D10*E10 -> 200000
A11: 43029 | C11: 맥심 커피 | D11: 1 | E11: 26900 | G11: =D11*E11 -> 26900
C12: 설탕 | D12: 1 | E12: 2250 | G12: =D12*E12 -> 2250
C13: 대 봉투 | D13: 1 | E13: 3900 | G13: =D13*E13 -> 3900
C14: 나무 젓가락 | D14: 1 | E14: 10000 | G14: =D14*E14 -> 10000
A15: 10월22일 | C15: 김밥 | D15: 250 | E15: 1500 | G15: =D15*E15 -> 375000
C16: 김밥 판매금 | F16: 196000 | G16: =D16*E16 -> 0
A17: 43037 | C17: 김밥 | D17: 270 | E17: 1500 | G17: =D17*E17 -> 405000
C18: 김밥 판매금 | F18: 239000 | G18: =D18*E18 -> 0
C19: 육개장 사발면 | D19: 1 | E19: 18000 | G19: =D19*E19 -> 18000
C20: 종이컵 | D20: 1 | E20: 9900 | G20: =D20*E20 -> 9900
G21: =D21*E21 -> 0
G22: =D22*E22 -> 0
G23: =D23*E23 -> 0
G24: =D24*E24 -> 0
G25: =D25*E25 -> 0
G26: =D26*E26 -> 0
G27: =D27*E27 -> 0
G28: =D28*E28 -> 0
G29: =D29*E29 -> 0
G30: =D30*E30 -> 0
G31: =D31*E31 -> 0
G32: =D32*E32 -> 0
... G38: =D38*E38 -> 0
C39: 합계 | F39: =SUM(F6:F38) -> 445500 | G39: =SUM(G6:G38) -> 1830950
C40: 전월 계 | F40: ='17년09월'!F41 -> 8368850 | G40: ='17년09월'!G41 -> 35159910
C41: 누계 | F41: =F39+F40 -> 8814350 | G41: =G39+G40 -> 36990860

Sheet 17년09월
E2: 17년 09월 | F2: ( 봉 사 부 ) 현금출납 기록부 | J2: 기록자: 김 병 태
A4: 날 짜 | C4: 내 역 | F4: 수입 금액 | G4: 지출 금액 | H4: 잔액 | I4: 구분(현금/카드) | J4: 비고
A5: 월 | B5: 일 | C5: 품목 | D5: 수량 | E5: 단가
A6: 42980 | C6: 육개장 사발면 | D6: 4 | E6: 16800 | G6: =D6*E6 -> 67200 | I6: 체크카드
C7: 둥글레차 | D7: 3 | E7: 7680 | G7: =D7*E7 -> 23040 | I7: 체크카드
C8: 구매할인 | D8: -1 | E8: 4500 | G8: =D8*E8 -> -4500 | I8: 체크카드
C9: 현미녹차 | D9: 3 | E9: 6570 | G9: =D9*E9 -> 19710 | I9: 체크카드
C10: 구매할인 | D10: -1 | E10: 4500 | G10: =D10*E10 -> -4500
C11: 맥심커피 | D11: 6 | E11: 23050 | G11: =D11*E11 -> 138300 | I11: 체크카드
C12: 구매할인 | D12: -1 | E12: 9000 | G12: =D12*E12 -> -9000
A13: 42981 | C13: 김밥 | D13: 280 | E13: 1500 | G13: =D13*E13 -> 420000 | I13: 체크카드
C14: 김밥 판매금 | F14: 211000 | G14: =D14*E14 -> 0
C15: 우산비닐커버 | D15: 1 | E15: 81400 | G15: =D15*E15 -> 81400 | I15: 체크카드
A16: 42982 | C16: 중식 지원비-킹덤 | D16: 3 | E16: 200000 | G16: =D16*E16 -> 600000 | I16: 체크카드
C17: 중식 지원비-권 장로 | D17: 1 | E17: 200000 | G17: =D17*E17 -> 200000 | I17: 체크카드
A18: 42988 | C18: 김밥 | D18: 250 | E18: 1500 | G18: =D18*E18 -> 375000 | I18: 체크카드
C19: 김밥 판매금 | F19: 224800 | G19: =D19*E19 -> 0
A20: 42995 | C20: 김치 사발면 | D20: 1 | E20: 18240 | G20: =D20*E20 -> 18240
C21: 육개장 사발면 | D21: 1 | E21: 36480 | G21: =D21*E21 -> 36480 | I21: 체크카드
C22: 김밥 | D22: 250 | E22: 1500 | G22: =D22*E22 -> 375000 | I22: 체크카드
C23: 김밥 판매금 | F23: 218000 | G23: =D23*E23 -> 0
C24: 미화원 용역비 | D24: 2 | E24: 450000 | G24: =D24*E24 -> 900000
A25: 43002 | C25: 김밥 | D25: 250 | E25: 1500 | G25: =D25*E25 -> 375000 | I25: 체크카드
C26: 김밥 판매금 | F26: 287000 | G26: =D26*E26 -> 0
C27: 육개장 사발면 | D27: 1 | E27: 54000 | G27: =D27*E27 -> 54000 | I27: 체크카드
C28: 종이컵 | D28: 1 | E28: 9900 | G28: =D28*E28 -> 9900 | I28: 체크카드
G29: =D29*E29 -> 0
G30: =D30*E30 -> 0
G31: =D31*E31 -> 0
G32: =D32*E32 -> 0
G33: =D33*E33 -> 0
G34: =D34*E34 -> 0
G35: =D35*E35 -> 0
G36: =D36*E36 -> 0
G37: =D37*E37 -> 0
G38: =D38*E38 -> 0
C39: 합계 | F39: =SUM(F6:F38) -> 940800 | G39: =SUM(G6:G38) -> 3675270
C40: 전월 계 | F40: ='17년08월'!F41 -> 7428050 | G40: ='17년08월'!G41 -> 31484640
C41: 누계 | F41: =F39+F40 -> 8368850 | G41: =G39+G40 -> 35159910

Sheet 17년08월
E2: 17년 8월 | F2: ( 봉 사 부 ) 현금출납 기록부 | J2: 기록자: 김 병 태
A4: 날 짜 | C4: 내 역 | F4: 수입 금액 | G4: 지출 금액 | H4: 잔액 | I4: 구분(현금/카드) | J4: 비고
A5: 월 | B5: 일 | C5: 품목 | D5: 수량 | E5: 단가
A6: 42953 | C6: 김밥 | D6: 280 | E6: 1500 | G6: =D6*E6 -> 420000 | I6: 체크카드
C7: 김밥 판매금 | F7: 161000 | G7: =D7*E7 -> 0
C8: 종이컵 | D8: 2 | E8: 9900 | G8: =D8*E8 -> 19800 | I8: 체크카드
A9: 42956 | C9: 킹덤 점심지원비 | D9: 3 | E9: 200000 | G9: =D9*E9 -> 600000 | I9: 체크카드
A10: 42958 | C10: 권 장로 점심지원비 | D10: 1 | E10: 200000 | G10: =D10*E10 -> 200000 | I10: 체크카드
A11: 42959 | C11: 육개장 사발면 | D11: 1 | E11: 36000 | G11: =D11*E11 -> 36000 | I11: 체크카드
C12: 맥심 커피 | D12: 1 | E12: 15960 | G12: =D12*E12 -> 15960 | I12: 체크카드
C13: 김밥 | D13: 280 | E13: 1500 | G13: =D13*E13 -> 420000 | I13: 체크카드
C14: 김밥 판매금 | F14: 202000 | G14: =D14*E14 -> 0
A15: 42966 | C15: 육개장 사발면 | D15: 1 | E15: 33600 | G15: =D15*E15 -> 33600 | I15: 체크카드
A16: 42967 | C16: 종이컵 | D16: 2 | E16: 9900 | G16: =D16*E16 -> 19800 | I16: 체크카드
C17: 김밥 | D17: 280 | E17: 1500 | G17: =D17*E17 -> 420000 | I17: 체크카드
C18: 김밥 판매금 | F18: 137000 | G18: =D18*E18 -> 0
C19: 미화원 용역비 | D19: 2 | E19: 450000 | G19: =D19*E19 -> 900000 | I19: 체크카드
A20: 42974 | C20: 김밥 | D20: 250 | E20: 1500 | G20: =D20*E20 -> 375000 | I20: 체크카드
C21: 김밥 판매금 | F21: 245000 | G21: =D21*E21 -> 0
G22: =D22*E22 -> 0
G23: =D23*E23 -> 0
G24: =D24*E24 -> 0
G25: =D25*E25 -> 0
G26: =D26*E26 -> 0
G27: =D27*E27 -> 0
G28: =D28*E28 -> 0
G29: =D29*E29 -> 0
G30: =D30*E30 -> 0
G31: =D31*E31 -> 0
G32: =D32*E32 -> 0
G33: =D33*E33 -> 0
... G38: =D38*E38 -> 0
C39: 합계 | F39: =SUM(F6:F38) -> 745000 | G39: =SUM(G6:G38) -> 3460160
C40: 전월 계 | F40: ='17년07월'!F40 -> 6683050 | G40: ='17년07월'!G40 -> 28024480
C41: 누계 | F41: =F39+F40 -> 7428050 | G41: =G39+G40 -> 31484640

Sheet 17년07월
E2: 17년 7월 | F2: ( 봉 사 부 ) 현금출납 기록부 | J2: 기록자: 김 병 태
A4: 날 짜 | C4: 내 역 | F4: 수입 금액 | G4: 지출 금액 | H4: 잔액 | I4: 구분(현금/카드) | J4: 비고
A5: 월 | B5: 일 | C5: 품목 | D5: 수량 | E5: 단가
A6: 42917 | C6: 맥심커피 | D6: 3 | E6: 23050 | G6: =D6*E6 -> 69150 | I6: 체크카드
C7: 둥글레차 | D7: 1 | E7: 3000 | G7: =D7*E7 -> 3000 | I7: 체크카드
C8: D/C | D8: 1 | E8: -4000 | G8: =D8*E8 -> -4000 | I8: 체크카드
C9: 맥심커피 | D9: 3 | E9: 23050 | G9: =D9*E9 -> 69150 | I9: 체크카드
C10: 둥글레차 | D10: 1 | E10: 9000 | G10: =D10*E10 -> 9000 | I10: 체크카드
C11: 녹차 | D11: 1 | E11: 23340 | G11: =D11*E11 -> 23340 | I11: 체크카드
C12: D/C | D12: 1 | E12: -5000 | G12: =D12*E12 -> -5000 | I12: 체크카드
A13: 42918 | C13: 김밥 | D13: 280 | E13: 1500 | G13: =D13*E13 -> 420000 | I13: 체크카드
C14: 김밥 판매금 | F14: 270000 | G14: =D14*E14 -> 0
A15: 42924 | C15: 나무젓가락 | D15: 1 | E15: 15000 | G15: =D15*E15 -> 15000 | I15: 체크카드
C16: 대 봉투 | D16: 1 | E16: 3900 | G16: =D16*E16 -> 3900 | I16: 체크카드
C17: 육개장 사발면 | D17: 4 | E17: 18000 | G17: =D17*E17 -> 72000 | I17: 체크카드
C18: 김밥 | D18: 280 | E18: 1500 | G18: =D18*E18 -> 420000 | I18: 체크카드
C19: 김밥 판매금 | F19: 260000 | G19: =D19*E19 -> 0
A20: 42928 | C20: 중식지원금(킹덤) | D20: 3 | E20: 200000 | G20: =D20*E20 -> 600000 | I20: 체크카드
A21: 42929 | C21: 중식지원금(권오성) | D21: 1 | E21: 200000 | G21: =D21*E21 -> 200000 | I21: 체크카드
A22: 42931 | C22: 종이컵 | D22: 2 | E22: 10000 | G22: =D22*E22 -> 20000 | I22: 체크카드
A23: 42932 | C23: 김밥 | D23: 250 | E23: 1500 | G23: =D23*E23 -> 375000 | I23: 체크카드
C24: 김밥 판매금 | F24: 175000 | G24: =D24*E24 -> 0
C25: 미화원 용역비 | D25: 2 | E25: 450000 | G25: =D25*E25 -> 900000 | I25: 체크카드
A26: 42939 | C26: 김밥 | D26: 250 | E26: 1500 | G26: =D26*E26 -> 375000 | I26: 체크카드
C27: 김밥 판매금 | F27: 235000 | G27: =D27*E27 -> 0
A28: 42945 | C28: 육개장 사발면 | D28: 3 | E28: 16800 | G28: =D28*E28 -> 50400 | I28: 체크카드
A29: 42946 | C29: 김밥 | D29: 250 | E29: 1500 | G29: =D29*E29 -> 375000 | I29: 체크카드
C30: 김밥 판매금 | F30: 155000 | G30: =D30*E30 -> 0
G31: =D31*E31 -> 0
G32: =D32*E32 -> 0
G33: =D33*E33 -> 0
G34: =D34*E34 -> 0
G35: =D35*E35 -> 0
G36: =D36*E36 -> 0
G37: =D37*E37 -> 0
C38: 합계 | F38: =SUM(F6:F37) -> 1095000 | G38: =SUM(G6:G37) -> 3990940
C39: 전월 계 | F39: ='17년06월'!F40 -> 5588050 | G39: ='17년06월'!G40 -> 24033540
C40: 누계 | F40: =F38+F39 -> 6683050 | G40: =G38+G39 -> 28024480

Sheet 17년06월
E2: 17년 6월 | F2: ( 봉 사 부 ) 현금출납 기록부 | J2: 기록자: 김 병 태
A4: 날 짜 | C4: 내 역 | F4: 수입 금액 | G4: 지출 금액 | H4: 잔액 | I4: 구분(현금/카드) | J4: 비고
A5: 월 | B5: 일 | C5: 품목 | D5: 수량 | E5: 단가
A6: 42869 | C6: 모자(봉사부) | D6: 10 | E6: 10000 | G6: =D6*E6 -> 100000 | I6: 체크카드
A7: 42883 | C7: 메밀차 | D7: 2 | E7: 7200 | G7: =D7*E7 -> 14400 | I7: 체크카드
C8: 잡화 | D8: 1 | E8: 9900 | G8: =D8*E8 -> 9900 | I8: 체크카드
A9: 42889 | C9: 종이컵 | D9: 1 | E9: 10000 | G9: =D9*E9 -> 10000 | I9: 체크카드
C10: 육개장사발면 | D10: 3 | E10: 15840 | G10: =D10*E10 -> 47520 | I10: 체크카드
A11: 42890 | C11: 김밥 | D11: 300 | E11: 1500 | G11: =D11*E11 -> 450000 | I11: 체크카드
C12: 김밥 판매금 | F12: 230000 | G12: =D12*E12 -> 0
A13: 42892 | C13: 중식지원금(킹덤) | D13: 3 | E13: 200000 | G13: =D13*E13 -> 600000 | I13: 체크카드
C14: 중식지지원금(목회) | D14: 1 | E14: 200000 | G14: =D14*E14 -> 200000 | I14: 체크카드
A15: 42896 | C15: 육개장사발면 | D15: 2 | E15: 18000 | G15: =D15*E15 -> 36000 | I15: 체크카드
C16: 나무젓가락 | D16: 1 | E16: 10000 | G16: =D16*E16 -> 10000 | I16: 체크카드
C17: 커피 | D17: 1 | E17: 13450 | G17: =D17*E17 -> 13450 | I17: 체크카드
C18: 중 봉투 | D18: 1 | E18: 5200 | G18: =D18*E18 -> 5200 | I18: 체크카드
C19: 대 봉투 | D19: 1 | E19: 4500 | G19: =D19*E19 -> 4500 | I19: 체크카드
A20: 42897 | C20: 김밥 | D20: 250 | E20: 1500 | G20: =D20*E20 -> 375000 | I20: 체크카드
C21: 김밥 판매금 | F21: 185000 | G21: =D21*E21 -> 0
A22: 42903 | C22: 육개장사발면 | D22: 1 | E22: 18000 | G22: =D22*E22 -> 18000 | I22: 체크카드
C23: 쓰레기봉투-대 | D23: 1 | E23: 10050 | G23: =D23*E23 -> 10050 | I23: 체크카드
A24: 42904 | C24: 김밥 | D24: 250 | E24: 1500 | G24: =D24*E24 -> 375000 | I24: 체크카드
C25: 김밥 판매금 | F25: 100000 | G25: =D25*E25 -> 0
C26: 미화원 용역비 | D26: 2 | E26: 450000 | G26: =D26*E26 -> 900000 | I26: 체크카드
A27: 42909 | C27: 김밥 | D27: 280 | E27: 1500 | G27: =D27*E27 -> 420000 | I27: 체크카드
C28: 김밥 판매금 | F28: 245000 | G28: =D28*E28 -> 0
G29: =D29*E29 -> 0
G30: =D30*E30 -> 0
G31: =D31*E31 -> 0
G32: =D32*E32 -> 0
G33: =D33*E33 -> 0
G34: =D34*E34 -> 0
G35: =D35*E35 -> 0
G36: =D36*E36 -> 0
G37: =D37*E37 -> 0
C38: 합계 | F38: =SUM(F6:F37) -> 760000 | G38: =SUM(G6:G37) -> 3599020
C39: 전월 계 | F39: ='17년05월'!F40 -> 4828050 | G39: ='17년05월'!G40 -> 20434520
C40: 누계 | F40: =F38+F39 -> 5588050 | G40: =G38+G39 -> 24033540

Sheet 17년05월
E2: 17년 5월 | F2: ( 봉 사 부 ) 현금출납 기록부 | J2: 기록자: 김 병 태
A4: 날 짜 | C4: 내 역 | F4: 수입 금액 | G4: 지출 금액 | H4: 잔액 | I4: 구분(현금/카드) | J4: 비고
A5: 월 | B5: 일 | C5: 품목 | D5: 수량 | E5: 단가
A6: 42861 | C6: 육개장 사발면 | D6: 3 | E6: 16800 | G6: =D6*E6 -> 50400
A7: 42862 | C7: 김밥 | D7: 350 | E7: 1500 | G7: =D7*E7 -> 525000
C8: 김밥 판매금 | F8: 314500 | G8: =D8*E8 -> 0
A9: 42869 | C9: 김밥 | D9: 300 | E9: 1500 | G9: =D9*E9 -> 450000
C10: 김밥 판매금 | F10: 253000 | G10: =D10*E10 -> 0
C11: 나무젓가락 | D11: 1 | E11: 11500 | G11: =D11*E11 -> 11500
C12: 종이컵 | D12: 1 | E12: 9900 | G12: =D12*E12 -> 9900
C13: 육개장 사발면 | D13: 1 | E13: 18000 | G13: =D13*E13 -> 18000
C14: 신라면 사발면 | D14: 1 | E14: 23800 | G14: =D14*E14 -> 23800
A15: 42876 | C15: 김밥 | D15: 255 | E15: 1500 | G15: =D15*E15 -> 382500
C16: 김밥 판매금 | F16: 192500 | G16: =D16*E16 -> 0
C17: 미화원 용역비 | D17: 2 | E17: 450000 | G17: =D17*E17 -> 900000
A18: 42883 | C18: 김밥 | D18: 300 | E18: 1500 | G18: =D18*E18 -> 450000
C19: 김밥 판매금 | F19: 276150 | G19: =D19*E19 -> 0
C20: 메밀차 | D20: 2 | E20: 7200 | G20: =D20*E20 -> 14400 | I20: 현금 | J20: 선 구매
C21: 종이컵 | D21: 1 | E21: 9900 | G21: =D21*E21 -> 9900 | I21: 현금 | J21: 선 구매
G22: =D22*E22 -> 0
G23: =D23*E23 -> 0
G24: =D24*E24 -> 0
G25: =D25*E25 -> 0
G26: =D26*E26 -> 0
G27: =D27*E27 -> 0
G28: =D28*E28 -> 0
G29: =D29*E29 -> 0
G30: =D30*E30 -> 0
G31: =D31*E31 -> 0
G32: =D32*E32 -> 0
G33: =D33*E33 -> 0
... G37: =D37*E37 -> 0
C38: 합계 | F38: =SUM(F6:F37) -> 1036150 | G38: =SUM(G6:G37) -> 2845400
C39: 전월 계 | F39: ='17년04월'!F40 -> 3791900 | G39: ='17년04월'!G40 -> 17589120
C40: 누계 | F40: =F38+F39 -> 4828050 | G40: =G38+G39 -> 20434520

Sheet 17년04월
E2: 17년 4월 | F2: ( 봉 사 부 ) 현금출납 기록부 | J2: 기록자: 김 병 태
A4: 날 짜 | C4: 내 역 | F4: 수입 금액 | G4: 지출 금액 | H4: 잔액 | I4: 구분(현금/카드) | J4: 비고
A5: 월 | B5: 일 | C5: 품목 | D5: 수량 | E5: 단가
A6: 42823 | C6: 주차봉 | D6: 1 | E6: 38100 | G6: =D6*E6 -> 38100
A7: 42826 | C7: 육개장 사발면 | D7: 1 | E7: 16800 | G7: =D7*E7 -> 16800
C8: 신라면 사발면 | D8: 1 | E8: 15200 | G8: =D8*E8 -> 15200
C9: 종이컵 | D9: 2 | E9: 10000 | G9: =D9*E9 -> 20000
C10: 건전지 | D10: 1 | E10: 11200 | G10: =D10*E10 -> 11200
A11: 42827 | C11: 김밥 | D11: 300 | E11: 1500 | G11: =D11*E11 -> 450000
C12: 김밥 판매금 | F12: 280000 | G12: =D12*E12 -> 0
A13: 42837 | C13: 주차금지표지판 | D13: 20 | E13: 5900 | G13: =D13*E13 -> 118000
A14: 42841 | C14: 부활절 행사비 | D14: 1 | E14: 4930000 | G14: =D14*E14 -> 4930000
C15: 미화원 용역비 | D15: 2 | E15: 450000 | G15: =D15*E15 -> 900000
A16: 42845 | C16: 육개장 사발면 | D16: 3 | E16: 16800 | G16: =D16*E16 -> 50400
A17: 42848 | C17: 김밥 | D17: 350 | E17: 1500 | G17: =D17*E17 -> 525000
C18: 김밥 판매금 | F18: 262000 | G18: =D18*E18 -> 0
A19: 42854 | C19: 맥심커피 | D19: 6 | E19: 23050 | G19: =D19*E19 -> 138300
C20: 메밀차 | D20: 2 | E20: 8500 | G20: =D20*E20 -> 17000
C21: 녹차 | D21: 2 | E21: 8160 | G21: =D21*E21 -> 16320
C22: 둥글레차 | D22: 4 | E22: 3010 | G22: =D22*E22 -> 12040
A23: 42855 | C23: 김밥 | D23: 300 | E23: 1500 | G23: =D23*E23 -> 450000
C24: 김밥 판매금 | F24: 268000 | G24: =D24*E24 -> 0
G25: =D25*E25 -> 0
G26: =D26*E26 -> 0
G27: =D27*E27 -> 0
G28: =D28*E28 -> 0
G29: =D29*E29 -> 0
G30: =D30*E30 -> 0
G31: =D31*E31 -> 0
G32: =D32*E32 -> 0
G33: =D33*E33 -> 0
G34: =D34*E34 -> 0
G35: =D35*E35 -> 0
G36: =D36*E36 -> 0
G37: =D37*E37 -> 0
C38: 합계 | F38: =SUM(F6:F37) -> 810000 | G38: =SUM(G6:G37) -> 7708360
C39: 전월 계 | F39: ='17년03월'!F41 -> 2981900 | G39: ='17년03월'!G41 -> 9880760
C40: 누계 | F40: =F38+F39 -> 3791900 | G40: =G38+G39 -> 17589120

Sheet 17년03월
E2: 17년3월 | F2: ( 봉 사 부 ) 현금출납 기록부 | J2: 기록자: 김 병 태
A4: 날 짜 | C4: 내 역 | F4: 수입 금액 | G4: 지출 금액 | H4: 잔액 | I4: 구분(현금/카드) | J4: 비고
A5: 월 | B5: 일 | C5: 품목 | D5: 수량 | E5: 단가
A6: 42798 | C6: 육개장 사발면 | D6: 4 | E6: 16800 | G6: =D6*E6 -> 67200
A7: 42799 | C7: 종이컵 | D7: 2 | E7: 9900 | G7: =D7*E7 -> 19800
C8: 김밥 | D8: 310 | E8: 1500 | G8: =D8*E8 -> 465000
C9: 김밥 판매금 | F9: 295000 | G9: =D9*E9 -> 0
A10: 42805 | C10: 둥글레차 | D10: 1 | E10: 10560 | G10: =D10*E10 -> 10560
C11: 현미녹차 | D11: 1 | E11: 9330 | G11: =D11*E11 -> 9330
C12: 메밀차 | D12: 1 | E12: 9680 | G12: =D12*E12 -> 9680
C13: 육개장 사발면 | D13: 1 | E13: 33600 | G13: =D13*E13 -> 33600
C14: 신 라면 사발면 | D14: 1 | E14: 30400 | G14: =D14*E14 -> 30400
C15: 맥심 커피 | D15: 5 | E15: 21800 | G15: =D15*E15 -> 109000
A16: 42806 | C16: 김밥 | D16: 380 | E16: 1500 | G16: =D16*E16 -> 570000
C17: 김밥 판매금 | F17: 359000 | G17: =D17*E17 -> 0
A18: 42813 | C18: 김밥 | D18: 330 | E18: 1500 | G18: =D18*E18 -> 495000
C19: 김밥 판매금 | F19: 203000 | G19: =D19*E19 -> 0
C20: 미화원 용역비 | D20: 2 | E20: 450000 | G20: =D20*E20 -> 900000
A21: 42816 | C21: 주차용품-무전기 | D21: 4 | E21: 165000 | G21: =D21*E21 -> 660000
C22: 주차용품-깃발 | D22: 1 | E22: 22000 | G22: =D22*E22 -> 22000
C23: 주차용품-라바콘세트 | D23: 20 | E23: 19800 | G23: =D23*E23 -> 396000
C24: 맥심 커피 | D24: 1 | E24: 13450 | G24: =D24*E24 -> 13450
C25: 검정봉투,속지봉투 | D25: 1 | E25: 9100 | G25: =D25*E25 -> 9100
C26: 젓가락,고무줄 | D26: 1 | E26: 20200 | G26: =D26*E26 -> 20200
C27: 육개장 사발면 | D27: 1 | E27: 36000 | G27: =D27*E27 -> 36000
A28: 42820 | C28: 주차용품 용달비 | D28: 1 | E28: 40000 | G28: =D28*E28 -> 40000
C29: 김밥 | D29: 400 | E29: 1500 | G29: =D29*E29 -> 600000
C30: 김밥 판매금 | F30: 334900 | G30: =D30*E30 -> 0
A31: 42825 | C31: 봉사부 안내띠 | D31: 20 | E31: 2500 | G31: =D31*E31 -> 50000 | I31: 현금 | J31: 선 입금
C32: 주차용품-소형 라바콘 | D32: 1 | E32: 5000 | G32: =D32*E32 -> 5000 | I32: 현금
C33: 주차용품-안내봉 | D33: 1 | E33: 5000 | G33: =D33*E33 -> 5000 | I33: 현금
C34: 안내봉 걸이대 | D34: 3 | E34: 2000 | G34: =D34*E34 -> 6000 | I34: 현금
C35: 장갑 | D35: 4 | E35: 1000 | G35: =D35*E35 -> 4000 | I35: 현금
G36: =D36*E36 -> 0
G37: =D37*E37 -> 0
G38: =D38*E38 -> 0
C39: 합계 | F39: =SUM(F6:F38) -> 1191900 | G39: =SUM(G6:G38) -> 4586320
C40: 전월 계 | F40: ='17년02월'!F41 -> 1790000 | G40: ='17년02월'!G41 -> 5294440
C41: 누계 | F41: =F39+F40 -> 2981900 | G41: =G39+G40 -> 9880760

Sheet 17년02월
E2: 17년2월 | F2: ( 봉 사 부 ) 현금출납 기록부 | J2: 기록자: 김 병 태
A4: 날 짜 | C4: 내 역 | F4: 수입 금액 | G4: 지출 금액 | H4: 잔액 | I4: 구분(현금/카드) | J4: 비고
A5: 월 | B5: 일 | C5: 품목 | D5: 수량 | E5: 단가
A6: 1 | B6: 21 | C6: 넉가래(제설용) | D6: 4 | E6: 5000 | G6: =D6*E6 -> 20000
A7: 2 | B7: 4 | C7: 육개장 | D7: 2 | E7: 16800 | G7: =D7*E7 -> 33600
C8: 신라면 | D8: 3 | E8: 15200 | G8: =D8*E8 -> 45600
C9: 둥글래차 | D9: 2 | E9: 5680 | G9: =D9*E9 -> 11360
C10: 메밀차 | D10: 1 | E10: 9180 | G10: =D10*E10 -> 9180
C11: 커피 | D11: 5 | E11: 23400 | G11: =D11*E11 -> 117000
A12: 2 | B12: 5 | C12: 김밥 | D12: 380 | E12: 1500 | G12: =D12*E12 -> 570000
C13: 김밥 판매금 | F13: 425000 | G13: =D13*E13 -> 0
A14: 2 | B14: 11 | C14: 물티슈 | D14: 1 | E14: 2000 | G14: =D14*E14 -> 2000
C15: 음식물분리통 (바구니/양동이) | D15: 1 | E15: 8000 | G15: =D15*E15 -> 8000
C16: 알커피/커피통 | D16: 1 | E16: 32400 | G16: =D16*E16 -> 32400
C17: 신라면 | D17: 2 | E17: 15200 | G17: =D17*E17 -> 30400
C18: 육개장 | D18: 3 | E18: 16800 | G18: =D18*E18 -> 50400
A19: 2 | B19: 12 | C19: 종이컵 | D19: 1 | E19: 9900 | G19: =D19*E19 -> 9900
C20: 김밥 | D20: 330 | E20: 1500 | G20: =D20*E20 -> 495000
C21: 김밥 판매금 | F21: 274000 | G21: =D21*E21 -> 0
A22: 2 | B22: 18 | C22: 나무 젓가락 | D22: 1 | E22: 15000 | G22: =D22*E22 -> 15000
C23: 투명테이프/카터기 | D23: 1 | E23: 2600 | G23: =D23*E23 -> 2600
C24: 검정 봉투 | D24: 1 | E24: 5850 | G24: =D24*E24 -> 5850
C25: 육개장 | D25: 1 | E25: 16800 | G25: =D25*E25 -> 16800
C26: 신라면 | D26: 2 | E26: 16800 | G26: =D26*E26 -> 33600
A27: 2 | B27: 19 | C27: 김밥 | D27: 310 | E27: 1500 | G27: =D27*E27 -> 465000
C28: 김밥 판매금 | F28: 217000 | G28: =D28*E28 -> 0
C29: 미화원 용역비 | D29: 2 | E29: 450000 | G29: =D29*E29 -> 900000
A30: 2 | B30: 25 | C30: 육개장 | D30: 2 | E30: 18000 | G30: =D30*E30 -> 36000
C31: 김밥 | D31: 280 | E31: 1500 | G31: =D31*E31 -> 420000
C32: 김밥 판매금 | F32: 177000 | G32: =D32*E32 -> 0
G33: =D33*E33 -> 0
G34: =D34*E34 -> 0
G35: =D35*E35 -> 0
G36: =D36*E36 -> 0
G37: =D37*E37 -> 0
G38: =D38*E38 -> 0
C39: 합계 | F39: =SUM(F6:F38) -> 1093000 | G39: =SUM(G6:G38) -> 3329690
C40: 전월 계 | F40: ='17년01월'!F41 -> 697000 | G40: ='17년01월'!G41 -> 1964750
C41: 누계 | F41: =F39+F40 -> 1790000 | G41: =G39+G40 -> 5294440

Sheet 17년01월
E2: 17년1월 | F2: ( 봉 사 부 ) 현금출납 기록부 | J2: 기록자: 김 병 태
A4: 날 짜 | C4: 내 역 | F4: 수입 금액 | G4: 지출 금액 | H4: 잔액 | I4: 구분(현금/카드) | J4: 비고
A5: 월 | B5: 일 | C5: 품목 | D5: 수량 | E5: 단가
A6: 1 | B6: 7 | C6: 신라면사발면 | D6: 32 | E6: 950 | G6: =D6*E6 -> 30400 | I6: 체크카드
C7: 육개장사발면 | D7: 72 | E7: 700 | G7: =D7*E7 -> 50400 | I7: 체크카드
C8: 종이컵 | D8: 1 | E8: 8950 | G8: =D8*E8 -> 8950 | I8: 체크카드
A9: 1 | B9: 8 | C9: 김밥 | D9: 320 | E9: 1500 | G9: =D9*E9 -> 480000 | I9: 체크카드
C10: 김밥 판매금 | F10: 362000 | G10: =D10*E10 -> 0
A11: 1 | B11: 15 | C11: 김밥 | D11: 330 | E11: 1500 | G11: =D11*E11 -> 495000 | I11: 체크카드
C12: 김밥 판매금 | F12: 335000 | G12: =D12*E12 -> 0
A13: 1 | B13: 22 | C13: 미화원 용역비 | D13: 2 | E13: 450000 | G13: =D13*E13 -> 900000 | I13: 현금 | J13: 1월부터 각 5만원 인상반영
C14: 떡국(산야초봉사) | G14: =D14*E14 -> 0
A15: 1 | B15: 29 | C15: 설날예배 | G15: =D15*E15 -> 0
G16: =D16*E16 -> 0
G17: =D17*E17 -> 0
G18: =D18*E18 -> 0
G19: =D19*E19 -> 0
G20: =D20*E20 -> 0
G21: =D21*E21 -> 0
G22: =D22*E22 -> 0
G23: =D23*E23 -> 0
G24: =D24*E24 -> 0
G25: =D25*E25 -> 0
G26: =D26*E26 -> 0
G27: =D27*E27 -> 0
... G38: =D38*E38 -> 0
C39: 합계 | F39: =SUM(F6:F38) -> 697000 | G39: =SUM(G6:G38) -> 1964750
C40: 전월 계
C41: 누계 | F41: =F39+F40 -> 697000 | G41: =G39+G40 -> 1964750

Sheet 봉사부12월
F1: ( 봉 사 부 ) 현금출납 기록부 | J1: 기록자: 김 병 태
A3: 날 짜 | C3: 내 역 | F3: 수입 금액 | G3: 지출 금액 | H3: 잔액 | I3: 구분(현금/카드) | J3: 비고
A4: 월 | B4: 일 | C4: 품목 | D4: 수량 | E4: 단가
A5: 12 | B5: 3 | C5: 현미 녹자 | D5: 1 | E5: 16320 | G5: =D5*E5 -> 16320 | I5: 체크 카드
C6: 메밀차 | D6: 1 | E6: 9600 | G6: =D6*E6 -> 9600 | I6: 체크 카드
C7: 둥글레차 | D7: 1 | E7: 15360 | G7: =D7*E7 -> 15360 | I7: 체크 카드
C8: 커피믹스 | D8: 6 | E8: 23400 | G8: =D8*E8 -> 140400 | I8: 체크 카드
C9: 사발면 | D9: 48 | E9: 700 | G9: =D9*E9 -> 33600 | I9: 체크 카드
C10: 젓가락 | D10: 4 | E10: 5000 | G10: =D10*E10 -> 20000 | I10: 체크 카드
C11: 쓰레기봉투 | D11: 1 | E11: 12500 | G11: =D11*E11 -> 12500 | I11: 체크 카드
A12: 12 | B12: 4 | C12: 김밥 | D12: 330 | E12: 1500 | G12: =D12*E12 -> 495000 | I12: 체크 카드
C13: 김밥 판매금 | F13: 340450 | G13: =D13*E13 -> 0
A14: 12 | B14: 7 | C14: 봉사부 방한복 | D14: 1 | E14: 850000 | G14: =D14*E14 -> 850000 | I14: 체크 카드
A15: 12 | B15: 11 | C15: 사발면 | D15: 2 | E15: 17280 | G15: =D15*E15 -> 34560 | I15: 체크 카드
C16: 사발면 | D16: 3 | E16: 4250 | G16: =D16*E16 -> 12750 | I16: 체크 카드
C17: 김밥 | D17: 300 | E17: 1500 | G17: =D17*E17 -> 450000 | I17: 체크 카드
C18: 김밥 판매금 | F18: 282500 | G18: =D18*E18 -> 0
C19: 봉사부 회식 | D19: 1 | E19: 279000 | G19: =D19*E19 -> 279000 | I19: 체크 카드
A20: 12 | B20: 13 | C20: 봉사부 방한복 | D20: 1 | G20: 280000 | I20: 체크 카드
A21: 12 | B21: 17 | C21: 사발면 | D21: 32 | E21: 840 | G21: =D21*E21 -> 26880 | I21: 현금
A22: 12 | B22: 18 | C22: 김밥 | D22: 330 | E22: 1500 | G22: =D22*E22 -> 495000 | I22: 체크 카드
C23: 김밥 판매금 | F23: 354000 | G23: =D23*E23 -> 0
C24: 미화원 용역비 | D24: 2 | E24: 400000 | G24: =D24*E24 -> 800000
A25: 12 | B25: 24 | C25: 종이컵 | D25: 2 | E25: 8950 | G25: =D25*E25 -> 17900 | I25: 체크 카드
A26: 12 | B26: 31 | C26: 사발면 | D26: 48 | E26: 700 | G26: =D26*E26 -> 33600 | I26: 체크 카드
C27: 주차봉 건전지 | D27: 1 | E27: 9150 | G27: =D27*E27 -> 9150 | I27: 체크 카드
C28: 주차봉 건전지 | D28: 1 | E28: 6250 | G28: =D28*E28 -> 6250 | I28: 체크 카드
A29: 12 | B29: 25 | C29: 백설기떡 | D29: 1 | E29: 1440000 | G29: =D29*E29 -> 1440000 | I29: 계좌이체
C30: 소보루빵 | D30: 1200 | E30: 850 | G30: =D30*E30 -> 1020000 | I30: 직불카드
C31: 주스 | D31: 1200 | E31: 700 | G31: =D31*E31 -> 840000 | I31: 계좌이체
C32: 생수 | D32: 1200 | E32: 270 | G32: =D32*E32 -> 324000 | I32: 현금
C33: 자유시간 | D33: 54 | E33: 7980 | G33: =D33*E33 -> 430920 | I33: 직불카드
C34: 귤 | D34: 30 | E34: 25000 | G34: =D34*E34 -> 750000
C35: 포장봉투 | D35: 1200 | E35: 55 | G35: =D35*E35 -> 66000 | I35: 현금
G36: =D36*E36 -> 0
G37: =D37*E37 -> 0
C38: 합계 | F38: =SUM(F5:F37) -> 976950 | G38: =SUM(G5:G37) -> 8908790
C39: 전월 계 | F39: =봉사부11월!F37 -> 12931600 | G39: =봉사부11월!G37 -> 35377270
C40: 누계 | F40: =F38+F39 -> 13908550 | G40: =G38+G39 -> 44286060

Sheet 봉사부11월
F1: ( 봉 사 부 ) 현금출납 기록부 | J1: 기록자: 김 병 태
A3: 날 짜 | C3: 내 역 | F3: 수입 금액 | G3: 지출 금액 | H3: 잔액 | I3: 구분(현금/카드) | J3: 비고
A4: 월 | B4: 일 | C4: 품목 | D4: 수량 | E4: 단가
A5: 11 | B5: 5 | C5: 종이컵 | D5: 2 | E5: 9900 | G5: =D5*E5 -> 19800 | I5: 체크 카드
C6: 육개장 사발면 | D6: 120 | E6: 700 | G6: =D6*E6 -> 84000 | I6: 체크 카드
A7: 11 | B7: 6 | C7: 김밥 | D7: 330 | E7: 1500 | G7: =D7*E7 -> 495000 | I7: 체크 카드
C8: 김밥 판매금 | F8: 357500 | G8: =D8*E8 -> 0
C9: 도시락 | D9: 30 | E9: 4500 | G9: =D9*E9 -> 135000 | I9: 체크 카드
C10: 도시락 판매금 | F10: 135000 | G10: =D10*E10 -> 0
A11: 11 | B11: 12 | C11: 설탕 | D11: 1 | E11: 2350 | G11: =D11*E11 -> 2350 | I11: 체크 카드
C12: 육개장 사발면 | D12: 72 | E12: 700 | G12: =D12*E12 -> 50400 | I12: 체크 카드
A13: 11 | B13: 13 | C13: 김밥 | D13: 285 | E13: 1500 | G13: =D13*E13 -> 427500 | I13: 체크 카드
C14: 김밥 판매금 | F14: 257000 | G14: =D14*E14 -> 0
C15: 도시락 | D15: 30 | E15: 4500 | G15: =D15*E15 -> 135000 | I15: 체크 카드
C16: 도시락 판매금 | F16: 135000 | G16: =D16*E16 -> 0
A17: 11 | B17: 20 | C17: 커피 | D17: 1 | E17: 27300 | G17: =D17*E17 -> 27300 | I17: 체크 카드
C18: 녹차 | D18: 1 | E18: 7200 | G18: =D18*E18 -> 7200 | I18: 체크 카드
C19: 메밀차 | D19: 1 | E19: 7200 | G19: =D19*E19 -> 7200 | I19: 체크 카드
C20: 미화원 용역비 | D20: 2 | E20: 400000 | G20: =D20*E20 -> 800000 | I20: 현금
A21: 11 | B21: 26 | C21: 육개장 사발면 | D21: 72 | E21: 700 | G21: =D21*E21 -> 50400 | I21: 체크 카드
C22: 음식물 쓰레기통 | D22: 1 | E22: 7000 | G22: =D22*E22 -> 7000 | I22: 체크 카드
A23: 11 | B23: 27 | C23: 김밥 | D23: 290 | E23: 1500 | G23: =D23*E23 -> 435000 | I23: 체크 카드
C24: 김밥 판매금 | F24: 240000 | G24: =D24*E24 -> 0
C25: 도시락 | D25: 47 | E25: 4500 | G25: =D25*E25 -> 211500 | I25: 체크 카드
C26: 도시락 판매금 | F26: 211500 | G26: =D26*E26 -> 0
C27: 쓰레기 봉투-중 | D27: 1 | E27: 9000 | G27: =D27*E27 -> 9000 | I27: 체크 카드
G28: =D28*E28 -> 0
G29: =D29*E29 -> 0
G30: =D30*E30 -> 0
G31: =D31*E31 -> 0
G32: =D32*E32 -> 0
G33: =D33*E33 -> 0
G34: =D34*E34 -> 0
C35: 합계 | F35: =SUM(F5:F34) -> 1336000 | G35: =SUM(G5:G34) -> 2903650
C36: 전월 계 | F36: =봉사부10월!F37 -> 11595600 | G36: =봉사부10월!G37 -> 32473620
C37: 누계 | F37: =F35+F36 -> 12931600 | G37: =G35+G36 -> 35377270

Sheet 봉사부10월
F1: ( 봉 사 부 ) 현금출납 기록부 | J1: 기록자: 김 병 태
A3: 날 짜 | C3: 내 역 | F3: 수입 금액 | G3: 지출 금액 | H3: 잔액 | I3: 구분(현금/카드) | J3: 비고
A4: 월 | B4: 일 | C4: 품목 | D4: 수량 | E4: 단가
A5: 10 | B5: 2 | C5: 김밥 | D5: 350 | E5: 1500 | G5: =D5*E5 -> 525000 | I5: 체크카드
C6: 김밥 판매금 | F6: 323000 | G6: =D6*E6 -> 0
A7: 10 | B7: 9 | C7: 교회 창립일 | G7: =D7*E7 -> 0 | I7: 체크카드
A8: 10 | B8: 16 | C8: 김밥 | D8: 270 | E8: 1500 | G8: =D8*E8 -> 405000 | I8: 체크카드
C9: 김밥 판매금 | F9: 165000 | G9: =D9*E9 -> 0
A10: 10 | B10: 15 | C10: 육개장 사발면 | D10: 4 | E10: 15840 | G10: =D10*E10 -> 63360 | I10: 체크카드
C11: 커피 | D11: 6 | E11: 21800 | G11: =D11*E11 -> 130800 | I11: 체크카드
C12: 녹차 | D12: 1 | E12: 5090 | G12: =D12*E12 -> 5090 | I12: 체크카드
C13: 메밀차 | D13: 1 | E13: 5250 | G13: =D13*E13 -> 5250 | I13: 체크카드
C14: 둥글레차 | D14: 1 | E14: 7680 | G14: =D14*E14 -> 7680 | I14: 체크카드
C15: 쇼핑봉투 | D15: 1 | E15: 3900 | G15: =D15*E15 -> 3900 | I15: 체크카드
C16: 젓가락 | D16: 1 | E16: 18900 | G16: =D16*E16 -> 18900 | I16: 체크카드
C17: 음악회 준비물 | D17: 1 | E17: 67000 | G17: =D17*E17 -> 67000 | I17: 체크카드
C18: 미화원 용역비 | D18: 2 | E18: 400000 | G18: =D18*E18 -> 800000 | I18: 체크카드
A19: 10 | B19: 23 | C19: 김밥 | D19: 250 | E19: 1500 | G19: =D19*E19 -> 375000 | I19: 체크카드
C20: 김밥 판매금 | F20: 184500 | G20: =D20*E20 -> 0
C21: 도시락 | D21: 70 | E21: 4500 | G21: =D21*E21 -> 315000 | I21: 체크카드
C22: 도시락 판매금 | F22: 325500 | G22: =D22*E22 -> 0
A23: 10 | B23: 30 | C23: 김밥 | D23: 300 | E23: 1500 | G23: =D23*E23 -> 450000 | I23: 체크카드
C24: 김밥 판매금 | F24: 300500 | G24: =D24*E24 -> 0
C25: 육개장 사발면 | D25: 1 | E25: 15000 | G25: =D25*E25 -> 15000 | I25: 체크카드
C26: 도시락 | D26: 30 | E26: 4500 | G26: =D26*E26 -> 135000 | I26: 체크카드
C27: 도시락 판매금 | F27: 135000 | G27: =D27*E27 -> 0
G28: =D28*E28 -> 0
G29: =D29*E29 -> 0
G30: =D30*E30 -> 0
G31: =D31*E31 -> 0
G32: =D32*E32 -> 0
G33: =D33*E33 -> 0
G34: =D34*E34 -> 0
C35: 합계 | F35: =SUM(F5:F34) -> 1433500 | G35: =SUM(G5:G34) -> 3321980
C36: 전월 계 | F36: =봉사부9월!F36 -> 10162100 | G36: =봉사부9월!G36 -> 29151640
C37: 누계 | F37: =F35+F36 -> 11595600 | G37: =G35+G36 -> 32473620

Sheet 봉사부9월
F1: ( 봉 사 부 ) 현금출납 기록부 | J1: 기록자: 김 병 태
A3: 날 짜 | C3: 내 역 | F3: 수입 금액 | G3: 지출 금액 | H3: 잔액 | I3: 구분(현금/카드) | J3: 비고
A4: 월 | B4: 일 | C4: 품목 | D4: 수량 | E4: 단가
A5: 9 | B5: 3 | C5: 맥심커피 | D5: 5 | E5: 22400 | G5: =D5*E5 -> 112000 | I5: 체크카드
C6: 둥글레차 | D6: 1 | E6: 7680 | G6: =D6*E6 -> 7680 | I6: 체크카드
C7: 메밀차 | D7: 1 | E7: 12100 | G7: =D7*E7 -> 12100 | I7: 체크카드
C8: 현미녹차 | D8: 1 | E8: 23340 | G8: =D8*E8 -> 23340 | I8: 체크카드
C9: 나무젓 가락 | D9: 3 | E9: 9450 | G9: =D9*E9 -> 28350 | I9: 체크카드
C10: 종이컵 | D10: 3 | E10: 8950 | G10: =D10*E10 -> 26850 | I10: 체크카드
C11: 이쑤시게 | D11: 1 | E11: 4000 | G11: =D11*E11 -> 4000 | I11: 체크카드
C12: 쇼핑팩 봉투 | D12: 1 | E12: 3900 | G12: =D12*E12 -> 3900 | I12: 체크카드
C13: 쓰레기봉투 | D13: 1 | E13: 10050 | G13: =D13*E13 -> 10050 | I13: 체크카드
C14: 알커피 | D14: 1 | E14: 19000 | G14: =D14*E14 -> 19000 | I14: 체크카드
C15: 냅키케이스 | D15: 2 | E15: 3400 | G15: =D15*E15 -> 6800 | I15: 체크카드
C16: 냅킨 | D16: 1 | E16: 6450 | G16: =D16*E16 -> 6450 | I16: 체크카드
C17: 종이컵 | D17: 1 | E17: 9900 | G17: =D17*E17 -> 9900 | I17: 체크카드
C18: 할인 | D18: 1 | E18: -2000 | G18: =D18*E18 -> -2000
A19: 9 | B19: 4 | C19: 김밥 | D19: 380 | E19: 1500 | G19: =D19*E19 -> 570000 | I19: 체크카드
C20: 김밥 판매금 | F20: 370500 | G20: =D20*E20 -> 0
A21: 9 | B21: 11 | C21: 김밥 | D21: 350 | E21: 1500 | G21: =D21*E21 -> 525000 | I21: 체크카드
C22: 김밥 판매금 | F22: 301000 | G22: =D22*E22 -> 0
A23: 9 | B23: 18 | C23: 김밥 | D23: 300 | E23: 1500 | G23: =D23*E23 -> 450000 | I23: 체크카드
C24: 김밥 판매금 | F24: 255000 | G24: =D24*E24 -> 0
C25: 미화원 용역비 | D25: 2 | E25: 400000 | G25: =D25*E25 -> 800000 | I25: 현금
A26: 9 | B26: 25 | C26: 김밥 | D26: 300 | E26: 1500 | G26: =D26*E26 -> 450000 | I26: 체크카드
C27: 육개장 사발면 | D27: 2 | E27: 16500 | G27: =D27*E27 -> 33000 | I27: 체크카드
C28: 신라면 사발면 | D28: 1 | E28: 22000 | G28: =D28*E28 -> 22000 | I28: 체크카드
C29: 김밥 판매금 | F29: 257000 | G29: =D29*E29 -> 0
G30: =D30*E30 -> 0
G31: =D31*E31 -> 0
G32: =D32*E32 -> 0
G33: =D33*E33 -> 0
C34: 합계 | F34: =SUM(F5:F33) -> 1183500 | G34: =SUM(G5:G33) -> 3118420
C35: 전월 계 | F35: =봉사부8월!F31 -> 8978600 | G35: =봉사부8월!G31 -> 26033220
C36: 누계 | F36: =F34+F35 -> 10162100 | G36: =G34+G35 -> 29151640

Sheet 봉사부8월
F1: ( 봉 사 부 ) 현금출납 기록부 | J1: 기록자: 김 병 태
A3: 날 짜 | C3: 내 역 | F3: 수입 금액 | G3: 지출 금액 | H3: 잔액 | I3: 구분(현금/카드) | J3: 비고
A4: 월 | B4: 일 | C4: 품목 | D4: 수량 | E4: 단가
A5: 8 | B5: 7 | C5: 주먹밥 | D5: 320 | E5: 1500 | G5: =D5*E5 -> 480000 | I5: 체크카드
C6: 주먹밥 판매금 | F6: 272500 | G6: =D6*E6 -> 0
C7: 커피믹스/통 | D7: 1 | E7: 24500 | G7: =D7*E7 -> 24500 | I7: 체크카드
C8: 종이컵/박스 | D8: 1 | E8: 6900 | G8: =D8*E8 -> 6900 | I8: 체크카드
A9: 8 | B9: 14 | C9: 주먹밥 | D9: 300 | E9: 1500 | G9: =D9*E9 -> 450000 | I9: 체크카드
C10: 주먹밥 판매금 | F10: 250500 | G10: =D10*E10 -> 0
A11: 8 | B11: 21 | C11: 주먹밥 | D11: 300 | E11: 1500 | G11: =D11*E11 -> 450000 | I11: 체크카드
C12: 주먹밥 판매금 | F12: 203000 | G12: =D12*E12 -> 0
A13: 8 | B13: 28 | C13: 김밥 | D13: 320 | E13: 1500 | G13: =D13*E13 -> 480000 | I13: 체크카드
C14: 김밥 판매금 | F14: 246500 | G14: =D14*E14 -> 0
C15: 미화원 용역비 | D15: 2 | E15: 400000 | G15: =D15*E15 -> 800000
G16: =D16*E16 -> 0
G17: =D17*E17 -> 0
G18: =D18*E18 -> 0
G19: =D19*E19 -> 0
G20: =D20*E20 -> 0
G21: =D21*E21 -> 0
G22: =D22*E22 -> 0
G23: =D23*E23 -> 0
G24: =D24*E24 -> 0
G25: =D25*E25 -> 0
G26: =D26*E26 -> 0
G27: =D27*E27 -> 0
G28: =D28*E28 -> 0
C29: 합계 | F29: =SUM(F5:F28) -> 972500 | G29: =SUM(G5:G28) -> 2691400
C30: 전월 계 | F30: =봉사부7월!F31 -> 8006100 | G30: =봉사부7월!G31 -> 23341820
C31: 누계 | F31: =F29+F30 -> 8978600 | G31: =G29+G30 -> 26033220

Sheet 봉사부7월
F1: ( 봉 사 부 ) 현금출납 기록부 | J1: 기록자: 김 병 태
A3: 날 짜 | C3: 내 역 | F3: 수입 금액 | G3: 지출 금액 | H3: 잔액 | I3: 구분(현금/카드) | J3: 비고
A4: 월 | B4: 일 | C4: 품목 | D4: 수량 | E4: 단가
A5: 7 | B5: 3 | C5: 김밥 | D5: 380 | E5: 1500 | G5: =D5*E5 -> 570000 | I5: 체크카드
C6: 김밥 판매금 | F6: 286000 | G6: =D6*E6 -> 0
A7: 7 | B7: 10 | C7: 김밥 | D7: 320 | E7: 1500 | G7: =D7*E7 -> 480000 | I7: 체크카드
C8: 김밥 판매금 | F8: 199500 | G8: =D8*E8 -> 0
C9: 봉투 | D9: 3 | E9: 1950 | G9: =D9*E9 -> 5850 | I9: 체크카드
C10: 나무 젓가락 | D10: 2 | E10: 9450 | G10: =D10*E10 -> 18900 | I10: 체크카드
C11: 속지(특대) | D11: 1 | E11: 10400 | G11: =D11*E11 -> 10400 | I11: 체크카드
C12: 위생장갑 | D12: 1 | E12: 2700 | G12: =D12*E12 -> 2700 | I12: 체크카드
C13: 설탕 | D13: 1 | E13: 2250 | G13: =D13*E13 -> 2250 | I13: 체크카드
C14: 알 커피 | D14: 1 | E14: 7980 | G14: =D14*E14 -> 7980 | I14: 체크카드
C15: 티백 바구니 | D15: 1 | E15: 2300 | G15: =D15*E15 -> 2300 | I15: 체크카드
A16: 7 | B16: 17 | C16: 김밥 | D16: 320 | E16: 1500 | G16: =D16*E16 -> 480000 | I16: 체크카드
C17: 김밥 판매금 | F17: 234000 | G17: =D17*E17 -> 0
C18: 미화원 용역비 | D18: 2 | E18: 400000 | G18: =D18*E18 -> 800000 | I18: 현금
A19: 7 | B19: 24 | C19: 김밥 | D19: 350 | E19: 1500 | G19: =D19*E19 -> 525000 | I19: 체크카드
C20: 김밥 판매금 | F20: 273000 | G20: =D20*E20 -> 0
A21: 7 | B21: 31 | C21: 김밥 | D21: 300 | E21: 1500 | G21: =D21*E21 -> 450000 | I21: 체크카드
C22: 김밥 판매금 | F22: 240000 | G22: =D22*E22 -> 0
G23: =D23*E23 -> 0
G24: =D24*E24 -> 0
G25: =D25*E25 -> 0
G26: =D26*E26 -> 0
G27: =D27*E27 -> 0
G28: =D28*E28 -> 0
C29: 합계 | F29: =SUM(F5:F28) -> 1232500 | G29: =SUM(G5:G28) -> 3355380
C30: 전월 계 | F30: =봉사부6월!F31 -> 6773600 | G30: =봉사부6월!G31 -> 19986440
C31: 누계 | F31: =F29+F30 -> 8006100 | G31: =G29+G30 -> 23341820

Sheet 봉사부6월
F1: ( 봉 사 부 ) 현금출납 기록부 | J1: 기록자: 김 병 태
A3: 날 짜 | C3: 내 역 | F3: 수입 금액 | G3: 지출 금액 | H3: 잔액 | I3: 구분(현금/카드) | J3: 비고
A4: 월 | B4: 일 | C4: 품목 | D4: 수량 | E4: 단가
A5: 6 | B5: 5 | C5: 김밥 | D5: 300 | E5: 1500 | G5: =D5*E5 -> 450000 | I5: 체크카드
C6: 종이컵 | D6: 1 | E6: 9900 | G6: =D6*E6 -> 9900 | I6: 체크카드
C7: 커피 | D7: 1 | E7: 21500 | G7: =D7*E7 -> 21500 | I7: 체크카드
C8: 김밥 판매금 | F8: 270500 | G8: =D8*E8 -> 0
A9: 6 | B9: 11 | C9: 파라솔세트 | D9: 3 | E9: 91666.8 | G9: =D9*E9 -> 275000.4 | I9: 체크카드
C10: 파라솔운반비 | D10: 1 | E10: 30000 | G10: =D10*E10 -> 30000 | I10: 체크카드
A11: 6 | B11: 12 | C11: 김밥 | D11: 350 | E11: 1500 | G11: =D11*E11 -> 525000 | I11: 체크카드
C12: 김밥 판매금 | F12: 235000 | G12: =D12*E12 -> 0
A13: 6 | B13: 19 | C13: 김밥 | D13: 300 | E13: 1500 | G13: =D13*E13 -> 450000 | I13: 체크카드
C14: 미화원 용역비 | D14: 2 | E14: 400000 | G14: =D14*E14 -> 800000 | I14: 체크카드
C15: 김밥 판매금 | F15: 194000 | G15: =D15*E15 -> 0
A16: 6 | B16: 26 | C16: 주차표시판 | D16: 1 | E16: 24600 | G16: =D16*E16 -> 24600 | I16: 체크카드
C17: 커피 녹차 | D17: 1 | E17: 53950 | G17: =D17*E17 -> 53950 | I17: 체크카드
C18: 주차봉 | D18: 1 | E18: 49840 | G18: =D18*E18 -> 49840 | I18: 체크카드
C19: 김밥 | D19: 380 | E19: 1500 | G19: =D19*E19 -> 570000 | I19: 체크카드
C20: 커피 | D20: 1 | E20: 91500 | G20: =D20*E20 -> 91500 | I20: 체크카드
C21: 둥글래차 | D21: 1 | E21: 12200 | G21: =D21*E21 -> 12200 | I21: 체크카드
C22: 메밀차 | D22: 1 | E22: 12100 | G22: =D22*E22 -> 12100 | I22: 체크카드
C23: 녹차 | D23: 1 | E23: 11670 | G23: =D23*E23 -> 11670 | I23: 체크카드
C24: 종이컵 | D24: 1 | E24: 19800 | G24: =D24*E24 -> 19800 | I24: 체크카드
C25: 안전신호봉 | D25: 3 | E25: 10000 | G25: =D25*E25 -> 30000 | I25: 체크카드
C26: 김밥 판매금 | F26: 261000 | G26: =D26*E26 -> 0
G27: =D27*E27 -> 0
G28: =D28*E28 -> 0
C29: 합계 | F29: =SUM(F5:F28) -> 960500 | G29: =SUM(G5:G28) -> 3437060.4
C30: 전월 계 | F30: =봉사부5월!F31 -> 5813100 | G30: =봉사부5월!G31 -> 16549380
C31: 누계 | F31: =F29+F30 -> 6773600 | G31: =G29+G30 -> 19986440

Sheet 봉사부5월
F1: ( 봉 사 부 ) 현금출납 기록부 | J1: 기록자: 김 병 태
A3: 날 짜 | C3: 내 역 | F3: 수입 금액 | G3: 지출 금액 | H3: 잔액 | I3: 구분(현금/카드) | J3: 비고
A4: 월 | B4: 일 | C4: 품목 | D4: 수량 | E4: 단가
A5: 5 | B5: 1 | C5: 종이컵,현미녹차 | D5: 1 | E5: 27780 | G5: =D5*E5 -> 27780 | I5: 체크카드
C6: 김밥 | D6: 400 | E6: 1500 | G6: =D6*E6 -> 600000 | I6: 체크카드
C7: 김밥 판매금 | F7: 301000 | G7: =D7*E7 -> 0
A8: 5 | B8: 7 | C8: 동서 메밀차 | D8: 2 | E8: 9680 | G8: =D8*E8 -> 19360 | I8: 체크카드
C9: 현미 녹차 | D9: 2 | E9: 9330 | G9: =D9*E9 -> 18660 | I9: 체크카드
C10: 커피 | D10: 4 | E10: 22400 | G10: =D10*E10 -> 89600 | I10: 체크카드
A11: 5 | B11: 8 | C11: 김밥 | D11: 350 | E11: 1500 | G11: =D11*E11 -> 525000 | I11: 체크카드
C12: 김밥 판매금 | F12: 356000 | G12: =D12*E12 -> 0
C13: 미화원 용역 | D13: 2 | E13: 400000 | G13: =D13*E13 -> 800000 | I13: 체크카드
A14: 5 | B14: 15 | C14: 김밥 | D14: 350 | E14: 1500 | G14: =D14*E14 -> 525000 | I14: 체크카드
C15: 김밥 판매금 | F15: 241000 | G15: =D15*E15 -> 0
A16: 5 | B16: 22 | C16: 김밥 | D16: 300 | E16: 1500 | G16: =D16*E16 -> 450000 | I16: 체크카드
C17: 김밥 판매금 | F17: 281000 | G17: =D17*E17 -> 0
A18: 5 | B18: 25 | C18: 주차 표지판 | D18: 3 | E18: 16613.3 | G18: =D18*E18 -> 49839.9 | J18: 자 부담 선 결제
A19: 5 | B19: 29 | C19: 여성도회 바자회 | G19: =D19*E19 -> 0
G20: =D20*E20 -> 0
G21: =D21*E21 -> 0
G22: =D22*E22 -> 0
G23: =D23*E23 -> 0
G24: =D24*E24 -> 0
G25: =D25*E25 -> 0
G26: =D26*E26 -> 0
G27: =D27*E27 -> 0
G28: =D28*E28 -> 0
C29: 합계 | F29: =SUM(F5:F28) -> 1179000 | G29: =SUM(G5:G28) -> 3105239.9
C30: 전월 계 | F30: =봉사부4월!F31 -> 4634100 | G30: =봉사부4월!G31 -> 13444140
C31: 누계 | F31: =F29+F30 -> 5813100 | G31: =G29+G30 -> 16549380

Sheet 봉사부4월
F1: ( 봉 사 부 ) 현금출납 기록부 | J1: 기록자: 김 병 태
A3: 날 짜 | C3: 내 역 | F3: 수입 금액 | G3: 지출 금액 | H3: 잔액 | I3: 구분(현금/카드) | J3: 비고
A4: 월 | B4: 일 | C4: 품목 | D4: 수량 | E4: 단가
A5: 4 | B5: 3 | C5: 김밥 | D5: 430 | E5: 1500 | G5: =D5*E5 -> 645000 | I5: 체크카드
C6: 김밥 판매금 | F6: 371500 | G6: =D6*E6 -> 0
A7: 4 | B7: 9 | C7: 쓰레기 봉투 | D7: 1 | E7: 12500 | G7: =D7*E7 -> 12500 | I7: 체크카드
C8: 쓰레기 봉투(특대) | D8: 1 | E8: 10500 | G8: =D8*E8 -> 10500 | I8: 체크카드
C9: 커피 | D9: 4 | E9: 20170 | G9: =D9*E9 -> 80680 | I9: 체크카드
A10: 4 | B10: 10 | C10: 김밥 | D10: 380 | E10: 1500 | G10: =D10*E10 -> 570000 | I10: 체크카드
C11: 김밥 판매금 | F11: 255500 | G11: =D11*E11 -> 0 | I11: 체크카드
A12: 4 | B12: 17 | C12: 김밥 | D12: 400 | E12: 1500 | G12: =D12*E12 -> 600000 | I12: 체크카드
C13: 김밥 판매금 | F13: 273000 | G13: =D13*E13 -> 0
C14: 청소용역비 | D14: 2 | E14: 400000 | G14: =D14*E14 -> 800000 | I14: 체크카드
A15: 4 | B15: 24 | C15: 김밥 | D15: 350 | E15: 1500 | G15: =D15*E15 -> 525000 | I15: 체크카드
C16: 김밥 판매금 | F16: 353000 | G16: =D16*E16 -> 0
G17: =D17*E17 -> 0
G18: =D18*E18 -> 0
G19: =D19*E19 -> 0
G20: =D20*E20 -> 0
G21: =D21*E21 -> 0
G22: =D22*E22 -> 0
G23: =D23*E23 -> 0
G24: =D24*E24 -> 0
G25: =D25*E25 -> 0
G26: =D26*E26 -> 0
G27: =D27*E27 -> 0
G28: =D28*E28 -> 0
C29: 합계 | F29: =SUM(F5:F28) -> 1253000 | G29: =SUM(G5:G28) -> 3243680
C30: 전월 계 | F30: =봉사부3월!F31 -> 3381100 | G30: =봉사부3월!G31 -> 10200460
C31: 누계 | F31: =F29+F30 -> 4634100 | G31: =G29+G30 -> 13444140

Sheet 봉사부3월
F1: ( 봉 사 부 ) 현금출납 기록부 | J1: 기록자: 김 병 태
A3: 날 짜 | C3: 내 역 | F3: 수입 금액 | G3: 지출 금액 | H3: 잔액 | I3: 구분(현금/카드) | J3: 비고
A4: 월 | B4: 일 | C4: 품목 | D4: 수량 | E4: 단가
A5: 3 | B5: 6 | C5: 김밥 | D5: 420 | E5: 1500 | G5: =D5*E5 -> 630000 | I5: 체크카드
C6: 김밥 판매금 | F6: 370000 | G6: =D6*E6 -> 0
A7: 3 | B7: 12 | C7: 둥륵레차 | D7: 2 | E7: 7680 | G7: =D7*E7 -> 15360 | I7: 체크카드
C8: 메밀차 | D8: 1 | E8: 9680 | G8: =D8*E8 -> 9680 | I8: 체크카드
C9: 커피 | D9: 4 | E9: 21800 | G9: =D9*E9 -> 87200 | I9: 체크카드
C10: 비닐속지(중) | D10: 1 | E10: 5200 | G10: =D10*E10 -> 5200 | I10: 체크카드
C11: 비닐봉투 | D11: 3 | E11: 1950 | G11: =D11*E11 -> 5850 | I11: 체크카드
C12: 젓가락 | D12: 2 | E12: 9450 | G12: =D12*E12 -> 18900 | I12: 체크카드
A13: 3 | B13: 13 | C13: 김밥 | D13: 380 | E13: 1500 | G13: =D13*E13 -> 570000 | I13: 체크카드
C14: 김밥 판매금 | F14: 320000 | G14: =D14*E14 -> 0
A15: 3 | B15: 20 | C15: 종이컵 | D15: 2 | E15: 9900 | G15: =D15*E15 -> 19800 | I15: 체크카드
C16: 김밥 | D16: 370 | E16: 1500 | G16: =D16*E16 -> 555000 | I16: 체크카드
C17: 김밥 판매금 | F17: 320000 | G17: =D17*E17 -> 0
A18: 3 | B18: 27 | C18: 떡/백설기 | D18: 25 | E18: 60000 | G18: =D18*E18 -> 1500000 | I18: 체크카드 | J18: 부활절 행사 건
C19: 주스 | D19: 1000 | E19: 800 | G19: =D19*E19 -> 800000 | I19: 체크카드
C20: 비닐팩 | D20: 10 | E20: 2500 | G20: =D20*E20 -> 25000 | I20: 체크카드
G21: =D21*E21 -> 0
G22: =D22*E22 -> 0
G23: =D23*E23 -> 0
G24: =D24*E24 -> 0
G25: =D25*E25 -> 0
G26: =D26*E26 -> 0
G27: =D27*E27 -> 0
G28: =D28*E28 -> 0
C29: 합계 | F29: =SUM(F5:F28) -> 1010000 | G29: =SUM(G5:G28) -> 4241990
C30: 전월 계 | F30: 2371100 | G30: 5958470
C31: 누계 | F31: =F29+F30 -> 3381100 | G31: =G29+G30 -> 10200460

Sheet 2월
F1: ( 봉 사 부 ) 현금출납 기록부 | J1: 기록자: 김 병 태
A3: 월 | B3: 일 | C3: 내역 | F3: 수입 금액 | G3: 지출 금액 | H3: 잔액 | I3: 구분(현금/카드) | J3: 비고
C4: 품목 | D4: 수량 | E4: 단가
A5: 2 | B5: 7 | I5: 체크 카드 | J5: 설 연휴
A6: 2 | B6: 13 | C6: 커피 | D6: 4 | E6: 23800 | G6: =D6*E6 -> 95200 | I6: 체크 카드
C7: 둥글레차 | D7: 2 | E7: 6100 | G7: =D7*E7 -> 12200 | I7: 체크 카드
C8: 메밀차 | D8: 2 | E8: 12100 | G8: =D8*E8 -> 24200 | I8: 체크 카드
A9: 2 | B9: 14 | C9: 김밥 | D9: 400 | E9: 1500 | G9: =D9*E9 -> 600000 | I9: 체크 카드
C10: 김밥판매금 | F10: 355100 | G10: =D10*E10 -> 0
A11: 2 | B11: 21 | C11: 맥심커피 | D11: 1 | E11: 19000 | G11: =D11*E11 -> 19000 | I11: 개인 선 지급 | J11: 정산완료
C12: 설탕 | D12: 1 | E12: 2350 | G12: =D12*E12 -> 2350 | I12: 개인 선 지급
C13: 종이컵 | D13: 1 | E13: 10000 | G13: =D13*E13 -> 10000 | I13: 개인 선 지급
C14: 김밥 | D14: 370 | E14: 1500 | G14: =D14*E14 -> 555000 | I14: 체크 카드
C15: 김밥판매금 | F15: 310500 | G15: =D15*E15 -> 0
A16: 2 | B16: 28 | C16: 김밥 | D16: 400 | E16: 1500 | G16: =D16*E16 -> 600000 | I16: 체크 카드
C17: 김밥판매금 | F17: 432500 | G17: =D17*E17 -> 0
G18: =D18*E18 -> 0
G19: =D19*E19 -> 0
G20: =D20*E20 -> 0
G21: =D21*E21 -> 0
G22: =D22*E22 -> 0
G23: =D23*E23 -> 0
G24: =D24*E24 -> 0
G25: =D25*E25 -> 0
G26: =D26*E26 -> 0
G27: =D27*E27 -> 0
G28: =D28*E28 -> 0
C29: 합계 | F29: =SUM(F5:F28) -> 1098100 | G29: =SUM(G5:G28) -> 1917950
C30: 전월 계 | F30: 1273000 | G30: 4040520
C31: 누계 | F31: =F29+F30 -> 2371100 | G31: =G29+G30 -> 5958470

Sheet 봉사부 1월 지출
D1: ( 봉 사 부 ) 현금출납 기록부 | H1: 기록자: 김 병 태
A3: 월 | B3: 일 | C3: 내역 | D3: 수입 | E3: 지출 | F3: 잔액 | G3: 구분(현금/카드) | H3: 비고
A4: 1 | B4: 3 | C4: 김밥 350 X 1,500 | E4: 525000 | G4: 체크카드
C5: 김밥 판매금 | D5: 320000 | G5: 체크카드
A6: 1 | B6: 9 | C6: 커피(4개 X18,900) | E6: 75600 | G6: 체크카드
C7: 맥심 커피 2개 X 5,900 | E7: 11800 | G7: 체크카드
C8: 메밀차 (2개 X 9,680) | E8: 19360 | G8: 체크카드
C9: 둥글래차(2개 X 7,680) | E9: 15360 | G9: 체크카드
C10: 쇼핑봉투 (2개 X 1,950) | E10: 3900 | G10: 체크카드
C11: 종이컵(2개 X 8,950) | E11: 17900 | G11: 체크카드
C12: 육개장 사발면(2개 X 1,680) | E12: 33600 | G12: 체크카드
A13: 1 | B13: 10 | C13: 생수(200개 X 500) | E13: 100000 | G13: 체크카드
C14: 김밥 350 X 1,500 | E14: 525000 | G14: 체크카드
C15: 김밥 판매금 | D15: 274000 | G15: 체크카드
C16: 청소 용역비 (2인 X 400,000) | E16: 800000 | G16: 체크카드
A17: 1 | B17: 11 | C17: 발열조끼(9개 X 75,800) | E17: 682200 | G17: 현금 | H17: 자부담 선결제
A18: 1 | B18: 17 | C18: 김밥 400 X 1,500 | E18: 600000 | G18: 체크카드
C19: 김밥 판매금 | D19: 369000 | G19: 체크카드
C20: 발열조끼(1개 X 75,800) | E20: 75800 | G20: 현금 | H20: 자부담 선결제
A21: 1 | B21: 24 | C21: 김밥 370 X 1,500 | D21: 310000 | E21: 555000 | G21: 체크카드
C22: 김밥 판매금 | G22: 체크카드
A23: 1 | B23: 31 | C23: 휴무-산야초 떡국
C28: 합계 | D28: =SUM(D4:D27) -> 1273000 | E28: =SUM(E4:E27) -> 4040520 | H28: 받을금액:758,000

Sheet 각부서 비품대장
E2: ( ) 부 비품목록
A4: 번호 | B4: 품목 | C4: 모델명 | D4: 개수 | E4: 금액 | F4: 구입처(상호) | G4: 보관 위치 | H4: 비고(구입처 전화번호 등) | I4: 구매일자 | J4: 구매자

Sheet 사무처 렌탈물품 대장
A1: 번호 | B1: 품목 | C1: 모델명 | D1: 렌탈료 | E1: 렌탈업체 | F1: 사용 위치 | G1: 비고(AS 전화번호 등) | H1: 약정기간
